BEGIN:VCALENDAR
METHOD:PUBLISH
VERSION:2.0
CALSCALE:GREGORIAN
PRODID:-//NONSGML WPForms//NONSGML Sugar Calendar Feeds v3.11.0//EN
X-WR-CALNAME:Family Friday Street Party at The Mark
X-WR-CALDESC:Horizon West Happenings
X-WR-TIMEZONE:America/New_York
BEGIN:VTIMEZONE
TZID:America/New_York
BEGIN:STANDARD
TZOFFSETFROM:-0400
TZOFFSETTO:-0500
DTSTART:20251102T060000
TZNAME:EST
END:STANDARD
BEGIN:DAYLIGHT
TZOFFSETFROM:-0500
TZOFFSETTO:-0400
DTSTART:20260308T070000
TZNAME:EDT
END:DAYLIGHT
END:VTIMEZONE
BEGIN:VTIMEZONE
TZID:America/New_York
BEGIN:STANDARD
TZOFFSETFROM:-0400
TZOFFSETTO:-0500
DTSTART:20251102T060000
TZNAME:EST
END:STANDARD
BEGIN:DAYLIGHT
TZOFFSETFROM:-0500
TZOFFSETTO:-0400
DTSTART:20260308T070000
TZNAME:EDT
END:DAYLIGHT
END:VTIMEZONE
BEGIN:VEVENT
SUMMARY:Family Friday Street Party at The Mark
DESCRIPTION:Friday\, April 24 | 5 PM to 8 PM\n\n\n\nJoin us for an eveni
 ng of fun\, music\, and community at The Mark Street Party\, hosted by t
 he tenants of The Mark. \n\n\n\nEvent Highlights:• 🎧 Live DJ bringi
 ng the energy all evening• 🎟️ Raffles every 30 minutes with prize
 s from participating businesses• ✨ Vendor tents featuring local favo
 rites• 🍴 Food samples\, treats\, and special offers• 🎯 Games a
 nd activities for all ages• 🎁 Giveaways throughout the event• 
 ‍👩‍👧‍👦 Family-friendly fun and community connections• 
 🛍️ A chance to explore and support local businesses\n\n\n\nBring yo
 ur friends\, bring your family\, and come spend your Friday evening conn
 ecting with local businesses and neighbors.
URL;VALUE=URI:https://horizonwesthappenings.com/events/family-friday-str
 eet-party-at-the-mark/
UID:urn:uuid:3e8179f8-ee0f-4baa-948d-3ca8aed14da5
STATUS:CONFIRMED
ORGANIZER:
DTSTAMP:20260425T174545Z
DTSTART;TZID=America/New_York:20260424T170000
DTEND;TZID=America/New_York:20260424T200000
END:VEVENT
END:VCALENDAR