BEGIN:VCALENDAR
METHOD:PUBLISH
VERSION:2.0
CALSCALE:GREGORIAN
PRODID:-//NONSGML WPForms//NONSGML Sugar Calendar Feeds v3.11.0//EN
X-WR-CALNAME:Homegrown Market at Hamlin | 3rd Anniversary Celebration!
X-WR-CALDESC:Horizon West Happenings
X-WR-TIMEZONE:America/New_York
BEGIN:VTIMEZONE
TZID:America/New_York
BEGIN:STANDARD
TZOFFSETFROM:-0400
TZOFFSETTO:-0500
DTSTART:20251102T060000
TZNAME:EST
END:STANDARD
BEGIN:DAYLIGHT
TZOFFSETFROM:-0500
TZOFFSETTO:-0400
DTSTART:20260308T070000
TZNAME:EDT
END:DAYLIGHT
END:VTIMEZONE
BEGIN:VTIMEZONE
TZID:America/New_York
BEGIN:STANDARD
TZOFFSETFROM:-0400
TZOFFSETTO:-0500
DTSTART:20251102T060000
TZNAME:EST
END:STANDARD
BEGIN:DAYLIGHT
TZOFFSETFROM:-0500
TZOFFSETTO:-0400
DTSTART:20260308T070000
TZNAME:EDT
END:DAYLIGHT
END:VTIMEZONE
BEGIN:VEVENT
SUMMARY:Homegrown Market at Hamlin | 3rd Anniversary Celebration!
DESCRIPTION:Mark your calendars\, Horizon West. We’re celebrating 3 ye
 ars of Homegrown Market at Hamlin\, and this anniversary market is one y
 ou don’t want to miss.\n\n\n\nJoin us Sunday\, May 3 from 9 AM to 1 PM
 \, located outside Home State Brewing Co. and Filigree Coffee\, for a sp
 ecial anniversary edition filled with fresh finds\, fun activities\, and
  community favorites.\n\n\n\nHere’s what to look forward to:• Live m
 usic by Justin Phillips• Pop up fitness classes (stay tuned for the cl
 ass schedule)• Pup Cup Bar by Woofie's — bring the pups!• Fresh pr
 oduce and local vendors• Giveaways and activities for kids• FREE Hom
 egrown Market reusable shopping bags for the first 50 guests who stop by
  the Horizon West Happenings tent\n\n\n\nFrom fresh produce and artisan 
 goods to live music and family fun\, this market is all about celebratin
 g local and bringing the community together.\n\n\n\nWe can’t wait to s
 ee you there!&nbsp\;
URL;VALUE=URI:https://horizonwesthappenings.com/events/homegrown-market-
 at-hamlin-1st-sundays-2/
UID:urn:uuid:ed032691-1744-452d-993d-78a390216241
STATUS:CONFIRMED
ORGANIZER:
DTSTAMP:20260425T150936Z
DTSTART;TZID=America/New_York:20260503T090000
DTEND;TZID=America/New_York:20260503T130000
LOCATION:16016 New Independence Parkway
END:VEVENT
END:VCALENDAR